BEGIN:VCALENDAR
VERSION:2.0
PRODID:-//CNPTC - ECPv5.1.6//NONSGML v1.0//EN
CALSCALE:GREGORIAN
METHOD:PUBLISH
X-WR-CALNAME:CNPTC
X-ORIGINAL-URL:https://www.cnptcbr.org
X-WR-CALDESC:Eventos para CNPTC
BEGIN:VTIMEZONE
TZID:America/Sao_Paulo
BEGIN:STANDARD
TZOFFSETFROM:-0300
TZOFFSETTO:-0300
TZNAME:-03
DTSTART:20200101T000000
END:STANDARD
END:VTIMEZONE
BEGIN:VEVENT
DTSTART;TZID=America/Sao_Paulo:20201019T080000
DTEND;TZID=America/Sao_Paulo:20201020T000000
DTSTAMP:20260421T053319
CREATED:20200921T200527Z
LAST-MODIFIED:20200921T201047Z
UID:3289-1603094400-1603152000@www.cnptcbr.org
SUMMARY:IX BIBLIOCONTAS
DESCRIPTION:Confira mais dados no site:\nhttps://irbcontas.org.br/eventos/ix-bibliocontas/?occurrence=2020-10-19
URL:https://www.cnptcbr.org/evento/ix-bibliocontas/
LOCATION:Tribunal de Contas do Paraná\, Praça Nossa Senhora de Salette - S/Nº - Centro Cívico\, Curitiba\, PR\, Brasil
END:VEVENT
END:VCALENDAR